BEGIN:VCALENDAR
VERSION:2.0
PRODID:-//Blue Rider Stables - ECPv6.15.20//NONSGML v1.0//EN
CALSCALE:GREGORIAN
METHOD:PUBLISH
X-ORIGINAL-URL:https://bluerider.org
X-WR-CALDESC:Events for Blue Rider Stables
REFRESH-INTERVAL;VALUE=DURATION:PT1H
X-Robots-Tag:noindex
X-PUBLISHED-TTL:PT1H
BEGIN:VTIMEZONE
TZID:America/New_York
BEGIN:DAYLIGHT
TZOFFSETFROM:-0500
TZOFFSETTO:-0400
TZNAME:EDT
DTSTART:20220313T070000
END:DAYLIGHT
BEGIN:STANDARD
TZOFFSETFROM:-0400
TZOFFSETTO:-0500
TZNAME:EST
DTSTART:20221106T060000
END:STANDARD
BEGIN:DAYLIGHT
TZOFFSETFROM:-0500
TZOFFSETTO:-0400
TZNAME:EDT
DTSTART:20230312T070000
END:DAYLIGHT
BEGIN:STANDARD
TZOFFSETFROM:-0400
TZOFFSETTO:-0500
TZNAME:EST
DTSTART:20231105T060000
END:STANDARD
BEGIN:DAYLIGHT
TZOFFSETFROM:-0500
TZOFFSETTO:-0400
TZNAME:EDT
DTSTART:20240310T070000
END:DAYLIGHT
BEGIN:STANDARD
TZOFFSETFROM:-0400
TZOFFSETTO:-0500
TZNAME:EST
DTSTART:20241103T060000
END:STANDARD
END:VTIMEZONE
BEGIN:VEVENT
DTSTART;TZID=America/New_York:20230520T140000
DTEND;TZID=America/New_York:20230520T160000
DTSTAMP:20260424T072210
CREATED:20230505T113515Z
LAST-MODIFIED:20250512T171434Z
UID:22648-1684591200-1684598400@bluerider.org
SUMMARY:Pony Rides
DESCRIPTION:Every Third Saturday of the month from 2 – 4 we will be hosting pony rides. These are a great way to get your children to be able to sit on a horse\, and experience how amazing horses are. Parents: this is also a perfect way to introduce your kids to our lessons and start the process in having them join our program! Pony rides are for children only and we do have helmets for them. Each Pony Ride will last about 15 minutes. \nPlease Call to sign up at (413) 528-5299
URL:https://bluerider.org/event/pony-rides/
LOCATION:Massachusetts
END:VEVENT
END:VCALENDAR